BEGIN:VCALENDAR
VERSION:2.0
PRODID:-//Latokaski - ECPv5.2.1//NONSGML v1.0//EN
CALSCALE:GREGORIAN
METHOD:PUBLISH
X-WR-CALNAME:Latokaski
X-ORIGINAL-URL:https://www.latokaski.fi
X-WR-CALDESC:Tapahtumat Latokaski
BEGIN:VTIMEZONE
TZID:Europe/Helsinki
BEGIN:DAYLIGHT
TZOFFSETFROM:+0200
TZOFFSETTO:+0300
TZNAME:EEST
DTSTART:20170326T010000
END:DAYLIGHT
BEGIN:STANDARD
TZOFFSETFROM:+0300
TZOFFSETTO:+0200
TZNAME:EET
DTSTART:20171029T010000
END:STANDARD
END:VTIMEZONE
BEGIN:VEVENT
DTSTART;TZID=Europe/Helsinki:20171125T100000
DTEND;TZID=Europe/Helsinki:20171125T130000
DTSTAMP:20260420T053759
CREATED:20171107T172524Z
LAST-MODIFIED:20180930T091529Z
UID:3737-1511604000-1511614800@www.latokaski.fi
SUMMARY:Latokasken Marttojen Joulumyyjäiset
DESCRIPTION:Latokasken Marttojen perinteiset joulumyyjäiset lauantaina 25.11.2017 klo 10-13 Kaskikappelilla (Kaskipiha 3\, 02340 Espoo) \nPerinteitä kunnioittaen varmasti niin käsityöt kuin herkutkin ovat tänäkin vuonna upeita! \n 
URL:https://www.latokaski.fi/tapahtuma/latokasken-marttojen-joulumyyjaiset/
LOCATION:Kaskikappeli\, Kaskipiha 3\, Espoo\, 02349\, Suomi
ATTACH;FMTTYPE=image/jpeg:https://www.latokaski.fi/wp-content/uploads/2018/01/23519079_731432827047909_2327077901724176423_n.jpg
ORGANIZER;CN="Latokasken%20Martat":MAILTO:latokasken.martat@gmail.com
END:VEVENT
END:VCALENDAR