BEGIN:VCALENDAR
VERSION:2.0
PRODID:-//Latokaski - ECPv5.2.1//NONSGML v1.0//EN
CALSCALE:GREGORIAN
METHOD:PUBLISH
X-WR-CALNAME:Latokaski
X-ORIGINAL-URL:https://www.latokaski.fi
X-WR-CALDESC:Tapahtumat Latokaski
BEGIN:VTIMEZONE
TZID:Europe/Helsinki
BEGIN:DAYLIGHT
TZOFFSETFROM:+0200
TZOFFSETTO:+0300
TZNAME:EEST
DTSTART:20200329T010000
END:DAYLIGHT
BEGIN:STANDARD
TZOFFSETFROM:+0300
TZOFFSETTO:+0200
TZNAME:EET
DTSTART:20201025T010000
END:STANDARD
END:VTIMEZONE
BEGIN:VEVENT
DTSTART;TZID=Europe/Helsinki:20200301T100000
DTEND;TZID=Europe/Helsinki:20200301T130000
DTSTAMP:20260419T210942
CREATED:20200216T101829Z
LAST-MODIFIED:20200216T102841Z
UID:4445-1583056800-1583067600@www.latokaski.fi
SUMMARY:Latokasken talvirieha
DESCRIPTION:Tervetuloa!\nLatokaski -seuran Talvirieha kutsuu asukkaita hyvinvointiin yhteisölliseen kylätapahtumaan sunnuntaina 1.3.2020 tuttuun Asukaspuistoon! \nLumi on kuurupiilosilla\, joten hiihtokisojen sijaan toteutuu Lasten Rastirata. \nNuoret ovat todella taitavia!\nSyystempauksessa 2019 esiintyi ensimmäistä kertaa nuoria omin taitonäytöksin ja musiikkiesityksin. Tapahtumaesitteessä\, jonka jaamme alueen asukkaille\, on tapahtumassa työskennelleen nuoren kirjoittama uutinen esityksistä. \nMyös Talviriehassa esiintyy nuoria kykyjä esittelemässä taitojaan (musiikki\, urheilu tmv.) Esitykset ovat tapahtumassa tasatunnein. Kiinnostuitko? Kysy lisää latokaskiseura@latokaski.fi \nHyvä tietää!\n\n Tuemme nuorten ensimmäisiä työkokemuksia ja mahdollistamme ensimmäisen työtodistuksen. Tapahtumassa työskentelee jälleen nuoria eri tehtävissä – mukaan mahtuu!\n\nYhteistyössä\n\nTalkooväki ja nuoret työntekijät\nOhjelman toteuttajat\nEspoonlahden srk\nTapahtuman grillieväät tarjoaa K Supermarket Malminmäki\nTapahtuman pullat tarjoaa K Market Latokaski\nPainotyössä mukana Origos Oy\n\n  \nHuom! Pysäköinti ei mahdollista Lehtikaskentiellä tai asukaspuiston pysäköintipaikalla. Lähin pysäköintipaikka on Kantokasken koululla.
URL:https://www.latokaski.fi/tapahtuma/latokasken-talvirieha/
LOCATION:Latokasken asukaspuisto\, Lehtikaskentie 7\, Espoo\, 02340\, Finland
CATEGORIES:Latokaski-seuran tapahtumat,Tapahtumat
ATTACH;FMTTYPE=image/jpeg:https://www.latokaski.fi/wp-content/uploads/2020/02/talvirieha2020_mainos_A4_juliste_web.jpg
ORGANIZER;CN="Latokaski-seura":MAILTO:latokaskiseura@gmail.com
END:VEVENT
END:VCALENDAR