BEGIN:VCALENDAR
VERSION:2.0
PRODID:-//Latokaski - ECPv5.2.1//NONSGML v1.0//EN
CALSCALE:GREGORIAN
METHOD:PUBLISH
X-WR-CALNAME:Latokaski
X-ORIGINAL-URL:https://www.latokaski.fi
X-WR-CALDESC:Tapahtumat Latokaski
BEGIN:VTIMEZONE
TZID:Europe/Helsinki
BEGIN:DAYLIGHT
TZOFFSETFROM:+0200
TZOFFSETTO:+0300
TZNAME:EEST
DTSTART:20190331T010000
END:DAYLIGHT
BEGIN:STANDARD
TZOFFSETFROM:+0300
TZOFFSETTO:+0200
TZNAME:EET
DTSTART:20191027T010000
END:STANDARD
END:VTIMEZONE
BEGIN:VEVENT
DTSTART;TZID=Europe/Helsinki:20191120T173000
DTEND;TZID=Europe/Helsinki:20191120T193000
DTSTAMP:20260420T003149
CREATED:20171106T173131Z
LAST-MODIFIED:20191110T182942Z
UID:3745-1574271000-1574278200@www.latokaski.fi
SUMMARY:Perinteiset joulukorttitalkoot 20.11.2019 klo 17.30
DESCRIPTION:Latokaski-seuran perinteiset joulukorttitalkoot koko perheelle ke 20.11. klo 17.30-19.30\nTule mukaan ❤️!\nJoulutunnelman lisäksi Latokaski-seura tarjoaa askartelutarvikkeet\, glögiä ja piparia;) Tervetuloa!
URL:https://www.latokaski.fi/tapahtuma/perinteiset-joulukorttitalkoot-22-11-2017-klo-17-30/
LOCATION:Latokasken asukaspuisto\, Lehtikaskentie 7\, Espoo\, 02340\, Finland
ATTACH;FMTTYPE=image/png:https://www.latokaski.fi/wp-content/uploads/2017/11/Joulukortti-2019-1.png
ORGANIZER;CN="Latokaski-seura":MAILTO:latokaskiseura@gmail.com
END:VEVENT
END:VCALENDAR